BEGIN:VCALENDAR
VERSION:2.0
PRODID:-//cogchurch.us - ECPv6.15.20//NONSGML v1.0//EN
CALSCALE:GREGORIAN
METHOD:PUBLISH
X-WR-CALNAME:cogchurch.us
X-ORIGINAL-URL:https://cogchurch.us
X-WR-CALDESC:Events for cogchurch.us
REFRESH-INTERVAL;VALUE=DURATION:PT1H
X-Robots-Tag:noindex
X-PUBLISHED-TTL:PT1H
BEGIN:VTIMEZONE
TZID:America/New_York
BEGIN:DAYLIGHT
TZOFFSETFROM:-0500
TZOFFSETTO:-0400
TZNAME:EDT
DTSTART:20250309T070000
END:DAYLIGHT
BEGIN:STANDARD
TZOFFSETFROM:-0400
TZOFFSETTO:-0500
TZNAME:EST
DTSTART:20251102T060000
END:STANDARD
BEGIN:DAYLIGHT
TZOFFSETFROM:-0500
TZOFFSETTO:-0400
TZNAME:EDT
DTSTART:20260308T070000
END:DAYLIGHT
BEGIN:STANDARD
TZOFFSETFROM:-0400
TZOFFSETTO:-0500
TZNAME:EST
DTSTART:20261101T060000
END:STANDARD
BEGIN:DAYLIGHT
TZOFFSETFROM:-0500
TZOFFSETTO:-0400
TZNAME:EDT
DTSTART:20270314T070000
END:DAYLIGHT
BEGIN:STANDARD
TZOFFSETFROM:-0400
TZOFFSETTO:-0500
TZNAME:EST
DTSTART:20271107T060000
END:STANDARD
END:VTIMEZONE
BEGIN:VEVENT
DTSTART;TZID=America/New_York:20260410T170000
DTEND;TZID=America/New_York:20260412T130000
DTSTAMP:20260421T201555
CREATED:20260330T215027Z
LAST-MODIFIED:20260406T173227Z
UID:10000442-1775840400-1775998800@cogchurch.us
SUMMARY:Men's Retreat
DESCRIPTION:Men’s Retreat Invitation – Make Space for God\, Make Disciples \nAre you interested in attending our upcoming Men’s Retreat\, happening April 10–12 at Lakewood Lodge in Limington? \nThis year’s theme\, “Making Space for God\, Making Disciples\,” invites you to step away from the noise of everyday life and refocus on what matters most—your relationship with God and your calling to grow as a disciple. \nTo register\, please complete the form below and click submit.The registration fee is $25. \nWe hope you’ll join us for this meaningful and refreshing weekend! \n\n\nRegistration\n\nSchedule Outline & Packing List
URL:https://cogchurch.us/event/mens-retreat/
LOCATION:Lakewood Lodge\, 179 Fellowship Dr\, Limington\,\, 04049\, United States
ATTACH;FMTTYPE=image/jpeg:https://cogchurch.us/wp-content/uploads/2026/03/Mens-Retreat-Flyer-8.5-x-11-in-2.jpg
ORGANIZER;CN="Community of Grace":MAILTO:contact@cogchurch.us
END:VEVENT
END:VCALENDAR