BEGIN:VCALENDAR
VERSION:2.0
PRODID:-//cogchurch.us - ECPv6.15.20//NONSGML v1.0//EN
CALSCALE:GREGORIAN
METHOD:PUBLISH
X-ORIGINAL-URL:https://cogchurch.us
X-WR-CALDESC:Events for cogchurch.us
REFRESH-INTERVAL;VALUE=DURATION:PT1H
X-Robots-Tag:noindex
X-PUBLISHED-TTL:PT1H
BEGIN:VTIMEZONE
TZID:America/New_York
BEGIN:DAYLIGHT
TZOFFSETFROM:-0500
TZOFFSETTO:-0400
TZNAME:EDT
DTSTART:20240310T070000
END:DAYLIGHT
BEGIN:STANDARD
TZOFFSETFROM:-0400
TZOFFSETTO:-0500
TZNAME:EST
DTSTART:20241103T060000
END:STANDARD
BEGIN:DAYLIGHT
TZOFFSETFROM:-0500
TZOFFSETTO:-0400
TZNAME:EDT
DTSTART:20250309T070000
END:DAYLIGHT
BEGIN:STANDARD
TZOFFSETFROM:-0400
TZOFFSETTO:-0500
TZNAME:EST
DTSTART:20251102T060000
END:STANDARD
BEGIN:DAYLIGHT
TZOFFSETFROM:-0500
TZOFFSETTO:-0400
TZNAME:EDT
DTSTART:20260308T070000
END:DAYLIGHT
BEGIN:STANDARD
TZOFFSETFROM:-0400
TZOFFSETTO:-0500
TZNAME:EST
DTSTART:20261101T060000
END:STANDARD
END:VTIMEZONE
BEGIN:VEVENT
DTSTART;TZID=America/New_York:20251224T163000
DTEND;TZID=America/New_York:20251224T180000
DTSTAMP:20260419T110550
CREATED:20251126T194321Z
LAST-MODIFIED:20251126T194321Z
UID:10000168-1766593800-1766599200@cogchurch.us
SUMMARY:Christmas Eve Service
DESCRIPTION:Christmas Eve Service\nAt Hope Community Church\n\nDecember 24\, 2025 | 4:30 – 6:00pm\n\n\n\n\n\n\nPlease join us for a “Lessons and Carols” service on Christmas Eve\, hosted by Hope Community Church in South Portland. \n4:30pm – Cookie and baked goods potluck \n5:00pm – Christmas Eve service \nA collaboration between Community of Grace\, Hope Community Church\, and Missio Dei Church
URL:https://cogchurch.us/event/christmas-eve-service/
LOCATION:Hope Community Church\, 879 Sawyer St\, South Portland\, 04106\, United States
ATTACH;FMTTYPE=image/jpeg:https://cogchurch.us/wp-content/uploads/2025/11/Christmas-Eve-Promo.jpg
END:VEVENT
END:VCALENDAR