BEGIN:VCALENDAR
VERSION:2.0
PRODID:-//cogchurch.us - ECPv6.15.20//NONSGML v1.0//EN
CALSCALE:GREGORIAN
METHOD:PUBLISH
X-WR-CALNAME:cogchurch.us
X-ORIGINAL-URL:https://cogchurch.us
X-WR-CALDESC:Events for cogchurch.us
REFRESH-INTERVAL;VALUE=DURATION:PT1H
X-Robots-Tag:noindex
X-PUBLISHED-TTL:PT1H
BEGIN:VTIMEZONE
TZID:America/New_York
BEGIN:DAYLIGHT
TZOFFSETFROM:-0500
TZOFFSETTO:-0400
TZNAME:EDT
DTSTART:20250309T070000
END:DAYLIGHT
BEGIN:STANDARD
TZOFFSETFROM:-0400
TZOFFSETTO:-0500
TZNAME:EST
DTSTART:20251102T060000
END:STANDARD
BEGIN:DAYLIGHT
TZOFFSETFROM:-0500
TZOFFSETTO:-0400
TZNAME:EDT
DTSTART:20260308T070000
END:DAYLIGHT
BEGIN:STANDARD
TZOFFSETFROM:-0400
TZOFFSETTO:-0500
TZNAME:EST
DTSTART:20261101T060000
END:STANDARD
BEGIN:DAYLIGHT
TZOFFSETFROM:-0500
TZOFFSETTO:-0400
TZNAME:EDT
DTSTART:20270314T070000
END:DAYLIGHT
BEGIN:STANDARD
TZOFFSETFROM:-0400
TZOFFSETTO:-0500
TZNAME:EST
DTSTART:20271107T060000
END:STANDARD
END:VTIMEZONE
BEGIN:VEVENT
DTSTART;TZID=America/New_York:20260514T190000
DTEND;TZID=America/New_York:20260514T210000
DTSTAMP:20260420T181610
CREATED:20260420T202951Z
LAST-MODIFIED:20260420T203049Z
UID:10000897-1778785200-1778792400@cogchurch.us
SUMMARY:ABBA Women's Choice Annual Fundraising Banquet
DESCRIPTION:ABBA Women’s Choice Annual Fundraising Banquet \nYou’re warmly invited to join ABBA Women’s Choice for their Annual Fundraising Banquet on Thursday\, May 14 at the Italian Heritage Center (40 Westland Ave\, Portland). \nThey are honored to welcome guest speaker Sean Corcoran for an inspiring evening. \nEvent Details: \n\nDoors open at 6:30 PM\nDinner and program: 7:00–9:00 PM\nComplimentary dinner provided\n\nDuring the evening\, guests will have an opportunity to support the mission of ABBA Women’s Choice through a voluntary financial gift. \nKindly RSVP by May 7(207) 253-5555 \nPlease note: This is an adults-only event\, and seating is limited.
URL:https://cogchurch.us/event/abba-womens-choice-annual-fundraising-banquet/
LOCATION:Italian Heritage Center\, 40 Westland\, Portland\, 04102\, United States
CATEGORIES:Ministry Partner
ATTACH;FMTTYPE=image/jpeg:https://cogchurch.us/wp-content/uploads/2026/04/ABBA.jpg
END:VEVENT
END:VCALENDAR